BEGIN:VCALENDAR
VERSION:2.0
PRODID:-//eventon.com NONSGML v1.0//EN
CALSCALE:GREGORIAN
METHOD:PUBLISH
BEGIN:VEVENT
UID:69e9ebeadcb9f
DTSTAMP:20260423T095242Z
DTSTART:20260331T160000Z
DTEND:20260331T180000Z
LOCATION:
SUMMARY:Kindergarten Open House Roundup
DESCRIPTION:Kindergarten Open House Roundup\nhttps://mcsd10.org/events/kind
 ergarten-open-house-roundup/
URL:https://mcsd10.org/events/kindergarten-open-house-roundup/
END:VEVENT
END:VCALENDAR